BEGIN:VCALENDAR
VERSION:2.0
PRODID:-//Squarespace Inc/Squarespace 6//v6//EN
BEGIN:VEVENT
UID:51f0addae4b0825f3a95a19a@squarespace.com
DTSTAMP:20130725T071914Z
DTSTART:20130728T020000Z
DTEND:20130728T040000Z
SUMMARY:AGM
GEO:-41.183509;174.948588
LOCATION:Fraser Park\, Lower Hutt\, New Zealand
END:VEVENT
END:VCALENDAR
