BEGIN:VCALENDAR
VERSION:2.0
PRODID:-//Squarespace Inc/Squarespace 6//v6//EN
BEGIN:VEVENT
UID:51d7b9b1e4b033e178dbfc59@squarespace.com
DTSTAMP:20130805T015833Z
DTSTART:20130901T040000Z
DTEND:20130901T060000Z
SUMMARY:Taita pre season
GEO:-41.136866;175.033529
LOCATION:Trentham Memorial Park\, Upper Hutt
END:VEVENT
END:VCALENDAR
