BEGIN:VCALENDAR
VERSION:2.0
PRODID:-//Squarespace Inc/Squarespace 6//v6//EN
BEGIN:VEVENT
UID:51ff048ae4b0d8cb5bdd00ac@squarespace.com
DTSTAMP:20130805T015857Z
DTSTART:20130912T080000Z
DTEND:20130912T090000Z
SUMMARY:Taita pre season
GEO:-41.136866;175.033529
LOCATION:Trentham Memorial Park\, Upper Hutt
END:VEVENT
END:VCALENDAR
