BEGIN:VCALENDAR
VERSION:2.0
PRODID:-//Squarespace Inc/Squarespace 6//v6//EN
BEGIN:VEVENT
UID:51feddc4e4b02708b6bc1c96@squarespace.com
DTSTAMP:20130805T015902Z
DTSTART:20130914T220000Z
DTEND:20130915T000000Z
SUMMARY:Taita pre season
GEO:-41.136866;175.033529
LOCATION:Trentham Memorial Park\, Upper Hutt
END:VEVENT
END:VCALENDAR
