BEGIN:VCALENDAR
VERSION:2.0
PRODID:-//Squarespace Inc/Squarespace 6//v6//EN
BEGIN:VEVENT
UID:51ff04b5e4b08e8b33d33f1d@squarespace.com
DTSTAMP:20130805T015908Z
DTSTART:20130917T080000Z
DTEND:20130917T090000Z
SUMMARY:Taita pre season
GEO:-41.136866;175.033529
LOCATION:Trentham Memorial Park\, Upper Hutt
END:VEVENT
END:VCALENDAR
