BEGIN:VCALENDAR
VERSION:2.0
PRODID:-//Squarespace Inc/Squarespace 6//v6//EN
BEGIN:VEVENT
UID:51ff04d0e4b0c1fd09a3659b@squarespace.com
DTSTAMP:20130805T015916Z
DTSTART:20130919T080000Z
DTEND:20130919T090000Z
SUMMARY:Taita pre season
GEO:-41.136866;175.033529
LOCATION:Trentham Memorial Park\, Upper Hutt
END:VEVENT
END:VCALENDAR
