BEGIN:VCALENDAR
VERSION:2.0
PRODID:-//Squarespace Inc/Squarespace 6//v6//EN
BEGIN:VEVENT
UID:51fede32e4b0987169fd2dd7@squarespace.com
DTSTAMP:20130805T015938Z
DTSTART:20130921T220000Z
DTEND:20130922T000000Z
SUMMARY:Taita pre season
GEO:-41.136866;175.033529
LOCATION:Trentham Memorial Park\, Upper Hutt
END:VEVENT
END:VCALENDAR
