BEGIN:VCALENDAR
VERSION:2.0
PRODID:-//Squarespace Inc/Squarespace 6//v6//EN
BEGIN:VEVENT
UID:51ff04ede4b0a3cc87439209@squarespace.com
DTSTAMP:20130805T015945Z
DTSTART:20130924T080000Z
DTEND:20130924T090000Z
SUMMARY:Taita pre season
GEO:-41.136866;175.033529
LOCATION:Trentham Memorial Park\, Upper Hutt
END:VEVENT
END:VCALENDAR
