BEGIN:VCALENDAR
VERSION:2.0
PRODID:-//Squarespace Inc/Squarespace 6//v6//EN
BEGIN:VEVENT
UID:51ff0514e4b02708b6bc6ae4@squarespace.com
DTSTAMP:20130805T015948Z
DTSTART:20130926T080000Z
DTEND:20130926T090000Z
SUMMARY:Taita pre season
GEO:-41.136866;175.033529
LOCATION:Trentham Memorial Park\, Upper Hutt
END:VEVENT
END:VCALENDAR
