BEGIN:VCALENDAR
VERSION:2.0
PRODID:-//Squarespace Inc/Squarespace 6//v6//EN
BEGIN:VEVENT
UID:51fede77e4b0987169fd2e4a@squarespace.com
DTSTAMP:20130805T015952Z
DTSTART:20130929T010000Z
DTEND:20130929T030000Z
SUMMARY:Taita pre season
GEO:-41.136866;175.033529
LOCATION:Trentham Memorial Park\, Upper Hutt
END:VEVENT
END:VCALENDAR
