BEGIN:VCALENDAR
VERSION:2.0
PRODID:-//Squarespace Inc/Squarespace 6//v6//EN
BEGIN:VEVENT
UID:51ff0453e4b0bfd6927c0c17@squarespace.com
DTSTAMP:20130805T015844Z
DTSTART:20130905T080000Z
DTEND:20130905T090000Z
SUMMARY:Taita pre season
END:VEVENT
END:VCALENDAR
