BEGIN:VCALENDAR
VERSION:2.0
PRODID:-//Squarespace Inc/Squarespace 6//v6//EN
BEGIN:VEVENT
UID:51fed352e4b0987169fd1c97@squarespace.com
DTSTAMP:20130805T015848Z
DTSTART:20130908T060000Z
DTEND:20130908T080000Z
SUMMARY:Taita pre season
GEO:-41.136866;175.033529
LOCATION:Trentham Memorial Park\, Upper Hutt
END:VEVENT
END:VCALENDAR
